BEGIN:VCALENDAR
VERSION:2.0
PRODID:-//hacksw/handcal//NONSGML v1.0//EN
BEGIN:VEVENT
SUMMARY:Championnat de Ligue FCD Golf des ABERS a BREST
UID:c65900de-308c-46c4-999c-87e40d7f9d42
DTSTART:20260509T060000Z
DTEND:20260510T150000Z
LOCATION:Localisation golf des abers  plouarzel
CATEGORIES:Sportif
STATUS:
DESCRIPTION:<p>2 jours de competition avec la FCD au golf des Abers a
 Brest.</p>
 
 <p>Lien vers le site du golf: <a
 href="http://www.golf-armorique.com/golf-des-abers.aspx"
 target="_blank" rel="noreferrer noopener"><span
 style="color:#c0392b;"><strong>ICI </strong></span></a></p>
 
 <p><strong>Inscrivez-vous
 </strong><a
 href="https://beta.framadate.org/polls/3c95f5e4cbd31049a77a"
 target="_blank" rel="noreferrer noopener"><strong><span
 style="color:#8e44ad;">ICI</span></strong></a> <span
 style="color:#e74c3c;"><strong>avant le 27
 avril</strong> </span>avec Framadate, pour que notre capitaine
 puisse valider votre inscription et constituer les equipes.
 Choisissez votre creneau horaire T1 le matin ou T2 l'apres-midi pour
 le samedi, les departs le dimanche se font en shotgun, cf note en PJ
 ci-dessous.</p>
 
 <p>Pour memoire il n'y a pas de logement prevu,
 chacun s'organise. Possibilite de ne jouer qu'1 jour sur
 2.</p>
 
 <p> </p>
 
 <p><u>TARIF remise avec participation de
 l'ASEAAC</u> incluant 2 repas,le samedi soir et le dimanche
 midi.</p>
 
 <p style="text-align:center;">- 2 jours : 93,5-50
 = <b>43,5€</b></p>
 
 <p style="text-align:center;">- samedi : 51-25
 = <b>26 €</b></p>
 
 <p style="text-align:center;">- dimanche :
 42,5- 20 = <b>22,5 €</b></p>
 
 <p>Le paiement se fait sur le
 <strong><a
 href="https://aseaac.s2.yapla.com/fr/inscriptions-aux-sections/register/golf/84000"
 target="_blank" rel="noreferrer noopener">YAPLA de
 l'ASEAAC</a></strong>. S'il n'est pas encore present sur le site de
 l'ASEAAC revenez demain verifier s'il apparait
 disponible.</p>
 
 <p> </p>
URL;VALUE=URI:https://aseaacgolf.sportsregions.fr/evenements/2026/05/09/championnat-de-ligue-fcd-golf-des-abers-a-brest-2369810
END:VEVENT
END:VCALENDAR
